BEGIN:VCALENDAR
VERSION:2.0
PRODID:-//IFOS | International Federation of ORL Societies - ECPv6.15.20//NONSGML v1.0//EN
CALSCALE:GREGORIAN
METHOD:PUBLISH
X-ORIGINAL-URL:https://ifosworld.org
X-WR-CALDESC:Events for IFOS | International Federation of ORL Societies
REFRESH-INTERVAL;VALUE=DURATION:PT1H
X-Robots-Tag:noindex
X-PUBLISHED-TTL:PT1H
BEGIN:VTIMEZONE
TZID:Europe/Paris
BEGIN:DAYLIGHT
TZOFFSETFROM:+0100
TZOFFSETTO:+0200
TZNAME:CEST
DTSTART:20230326T010000
END:DAYLIGHT
BEGIN:STANDARD
TZOFFSETFROM:+0200
TZOFFSETTO:+0100
TZNAME:CET
DTSTART:20231029T010000
END:STANDARD
BEGIN:DAYLIGHT
TZOFFSETFROM:+0100
TZOFFSETTO:+0200
TZNAME:CEST
DTSTART:20240331T010000
END:DAYLIGHT
BEGIN:STANDARD
TZOFFSETFROM:+0200
TZOFFSETTO:+0100
TZNAME:CET
DTSTART:20241027T010000
END:STANDARD
BEGIN:DAYLIGHT
TZOFFSETFROM:+0100
TZOFFSETTO:+0200
TZNAME:CEST
DTSTART:20250330T010000
END:DAYLIGHT
BEGIN:STANDARD
TZOFFSETFROM:+0200
TZOFFSETTO:+0100
TZNAME:CET
DTSTART:20251026T010000
END:STANDARD
END:VTIMEZONE
BEGIN:VEVENT
DTSTART;TZID=Europe/Paris:20240904T090000
DTEND;TZID=Europe/Paris:20240907T180000
DTSTAMP:20260423T221922
CREATED:20251105T142425Z
LAST-MODIFIED:20251105T160552Z
UID:6233-1725440400-1725732000@ifosworld.org
SUMMARY:11th Instructional Course Meeting of the European Academy of Otology and Neurotology
DESCRIPTION:Event venue: Nijmegen\nCountry: The Netherlands\nDate: 2024 September 04 2024 September 07\nContact: jef.mulder@radboudumc.nl\nWebsite: http://www.eaono2024.org\nAfter the well-organized virtual EAONO meeting in London in 2021\, we like to welcome you to the 2024 face-to-face EAONO workshop which will be organized in the oldest city of the Netherlands; Nijmegen. The beautiful and historically rich city of Nijmegen is located in the east of the Netherlands near the German border. A large percentage of the inhabitants of the city are in their 20’s due to the number of schools and universities located there. The conference venue will be Concertgebouw de Vereeniging\, a concert hall officially opened in 1915 and built in a mixture of Art Nouveau and Art Deco styles.
URL:https://ifosworld.org/event/11th-instructional-course-meeting-of-the-european-academy-of-otology-and-neurotology/
LOCATION:Nijmegen\, Nijmegen\, The Netherlands
END:VEVENT
BEGIN:VEVENT
DTSTART;TZID=Europe/Paris:20240913T090000
DTEND;TZID=Europe/Paris:20240914T180000
DTSTAMP:20260423T221922
CREATED:20251105T142425Z
LAST-MODIFIED:20251105T160559Z
UID:6234-1726218000-1726336800@ifosworld.org
SUMMARY:22nd Czech German ENT Days
DESCRIPTION:Event venue: Hermitage Hotel Prague\nCountry: Czechia\nDate: 2024 September 13 2024 September 14\nContact: info@czechgermanentdays.eu\nWebsite: https://czechgermanentdays.eu/\nMain topics- Skull Base Surgery\, Thyroid Gland Disorders\, lectures/instruction courses/round tables jan.lazak@fnmotol.cz
URL:https://ifosworld.org/event/22nd-czech-german-ent-days/
LOCATION:Hermitage Hotel Prague\, Hermitage Hotel Prague\, Czechia
END:VEVENT
BEGIN:VEVENT
DTSTART;TZID=Europe/Paris:20240919T090000
DTEND;TZID=Europe/Paris:20240922T180000
DTSTAMP:20260423T221922
CREATED:20251105T142425Z
LAST-MODIFIED:20251105T160614Z
UID:6235-1726736400-1727028000@ifosworld.org
SUMMARY:World Congress of Audiology
DESCRIPTION:Event venue: Paris\nCountry: France\nDate: 2024 September 19 2024 September 22\nContact: wca2024@wca2024paris.com\nWebsite: https://wca2024paris.com/\nThe 36th World Congress of Audiology is coming up and it is in Paris\, from the 19th to 22nd of September 2024 …. 50 years almost to the day since it last came to France ! The French Society of Audiology\, with the support of the French Society of Otorhinolaryngology\, has been working hard to bring together the world’s leading experts in hearing loss\, tinnitus and vestibular disorders for a scientific conference that will be remembered. From Teleaudiology to the emergence of Artificial Intelligence\, from the specificities of Hearing Aid delivery and Audiological services across the globe to the practice of Evidence-Based audiology\, all of the profound upheavals that span our professional practices will be addressed. In this respect\, the three themes chosen for the 2024 roundtables promise valuable exchanges with the opinion leaders concerned\, these topics being: Hearing & Cognition\, Hearing & Neurodevelopmental disorders\, and Ototoxicity.
URL:https://ifosworld.org/event/world-congress-of-audiology/
LOCATION:Paris\, Paris\, France
END:VEVENT
END:VCALENDAR