BEGIN:VCALENDAR
VERSION:2.0
PRODID:-//IFOS | International Federation of ORL Societies - ECPv6.15.20//NONSGML v1.0//EN
CALSCALE:GREGORIAN
METHOD:PUBLISH
X-WR-CALNAME:IFOS | International Federation of ORL Societies
X-ORIGINAL-URL:https://ifosworld.org
X-WR-CALDESC:Events for IFOS | International Federation of ORL Societies
REFRESH-INTERVAL;VALUE=DURATION:PT1H
X-Robots-Tag:noindex
X-PUBLISHED-TTL:PT1H
BEGIN:VTIMEZONE
TZID:Europe/Paris
BEGIN:DAYLIGHT
TZOFFSETFROM:+0100
TZOFFSETTO:+0200
TZNAME:CEST
DTSTART:20220327T010000
END:DAYLIGHT
BEGIN:STANDARD
TZOFFSETFROM:+0200
TZOFFSETTO:+0100
TZNAME:CET
DTSTART:20221030T010000
END:STANDARD
BEGIN:DAYLIGHT
TZOFFSETFROM:+0100
TZOFFSETTO:+0200
TZNAME:CEST
DTSTART:20230326T010000
END:DAYLIGHT
BEGIN:STANDARD
TZOFFSETFROM:+0200
TZOFFSETTO:+0100
TZNAME:CET
DTSTART:20231029T010000
END:STANDARD
BEGIN:DAYLIGHT
TZOFFSETFROM:+0100
TZOFFSETTO:+0200
TZNAME:CEST
DTSTART:20240331T010000
END:DAYLIGHT
BEGIN:STANDARD
TZOFFSETFROM:+0200
TZOFFSETTO:+0100
TZNAME:CET
DTSTART:20241027T010000
END:STANDARD
END:VTIMEZONE
BEGIN:VEVENT
DTSTART;TZID=Europe/Paris:20231102T090000
DTEND;TZID=Europe/Paris:20231102T180000
DTSTAMP:20260424T130013
CREATED:20251105T142432Z
LAST-MODIFIED:20251105T155857Z
UID:6249-1698915600-1698948000@ifosworld.org
SUMMARY:18th Copenhagen Advanced FESS and Anterior Skull Base course
DESCRIPTION:Event venue: Copenhagen\nCountry: Denmark\nDate: 2023 November 02 2023 November 03\nContact: vivian.soennicksen@regionh.dk\nWebsite: https://www.rigshospitalet.dk/entcopenhagen\nThis course is aimed at rhinologists interested in developing their knowledge and surgical skills in endoscopic sinus – and skull-base surgery. The course consists of lectures with theory\, but the main focus is on live demo dissections by the faculty\, followed by delegates performing dissections. The aim is to provide a comprehensive overview of external and endoscopic transnasal approaches to – and beyond the sinuses and anterior skull base. The focus of the course will be adapted to the delegates’ experience prior to the course. Two delegates will share one cadaver.
URL:https://ifosworld.org/event/18th-copenhagen-advanced-fess-and-anterior-skull-base-course/
LOCATION:Copenhagen\, Copenhagen\, Denmark
END:VEVENT
BEGIN:VEVENT
DTSTART;TZID=Europe/Paris:20231124T090000
DTEND;TZID=Europe/Paris:20231128T180000
DTSTAMP:20260424T130013
CREATED:20251105T142432Z
LAST-MODIFIED:20251105T155931Z
UID:6248-1700816400-1701194400@ifosworld.org
SUMMARY:Head & Neck Ultrasound Course (USG) 2023 / 11th Head & Neck Dissection and Reconstruction Hands-on Course
DESCRIPTION:Event venue: Prince of Wales Hospital / The Chinese University of Hong Kong\nCountry: Hong Kong\nDate: 2023 November 24 – 2023 November 28\nContact: hncourse@ent.cuhk.edu.hk\nWebsite:\nhttps://www.ent.cuhk.edu.hk/hncourse2023/
URL:https://ifosworld.org/event/head-neck-ultrasound-course-usg-2023-11th-head-neck-dissection-and-reconstruction-hands-on-course/
LOCATION:Prince of Wales Hospital / The Chinese University of Hong Kong\, Hong Kong
END:VEVENT
BEGIN:VEVENT
DTSTART;TZID=Europe/Paris:20231127T090000
DTEND;TZID=Europe/Paris:20231128T180000
DTSTAMP:20260424T130013
CREATED:20251105T142432Z
LAST-MODIFIED:20251105T160014Z
UID:6247-1701075600-1701194400@ifosworld.org
SUMMARY:3rd International Conference on Otorhinolaryngology
DESCRIPTION:Event venue: Dubai\, UAE\nCountry: UAE\nDate: 2023 November 27 2023 November 28\nContact: Otorhinolaryngology@scientexconferences.org\nWebsite: https://www.otorhinolaryngology.scientexconference.com/\nScientex Conferences warmly welcomes all the Participants\, Scientists and Delegates from the globe to join our conference “3rd International Conference on Otorhinolaryngology” during November 27-28\, 2023 in Dubai\, UAE. Otorhinolaryngology 2023 is organized around the theme “Discovering New Scientific Aspects and Novel Technologies in Otorhinolaryngology” that will mark a gathering of pioneers and experts from the Medicinal Industry
URL:https://ifosworld.org/event/3rd-international-conference-on-otorhinolaryngology/
LOCATION:Dubai\, Dubai\, UAE
END:VEVENT
END:VCALENDAR