BEGIN:VCALENDAR
VERSION:2.0
PRODID:-//IFOS | International Federation of ORL Societies - ECPv6.15.20//NONSGML v1.0//EN
CALSCALE:GREGORIAN
METHOD:PUBLISH
X-WR-CALNAME:IFOS | International Federation of ORL Societies
X-ORIGINAL-URL:https://ifosworld.org
X-WR-CALDESC:Events for IFOS | International Federation of ORL Societies
REFRESH-INTERVAL;VALUE=DURATION:PT1H
X-Robots-Tag:noindex
X-PUBLISHED-TTL:PT1H
BEGIN:VTIMEZONE
TZID:Europe/Paris
BEGIN:DAYLIGHT
TZOFFSETFROM:+0100
TZOFFSETTO:+0200
TZNAME:CEST
DTSTART:20230326T010000
END:DAYLIGHT
BEGIN:STANDARD
TZOFFSETFROM:+0200
TZOFFSETTO:+0100
TZNAME:CET
DTSTART:20231029T010000
END:STANDARD
BEGIN:DAYLIGHT
TZOFFSETFROM:+0100
TZOFFSETTO:+0200
TZNAME:CEST
DTSTART:20240331T010000
END:DAYLIGHT
BEGIN:STANDARD
TZOFFSETFROM:+0200
TZOFFSETTO:+0100
TZNAME:CET
DTSTART:20241027T010000
END:STANDARD
BEGIN:DAYLIGHT
TZOFFSETFROM:+0100
TZOFFSETTO:+0200
TZNAME:CEST
DTSTART:20250330T010000
END:DAYLIGHT
BEGIN:STANDARD
TZOFFSETFROM:+0200
TZOFFSETTO:+0100
TZNAME:CET
DTSTART:20251026T010000
END:STANDARD
END:VTIMEZONE
BEGIN:VEVENT
DTSTART;TZID=Europe/Paris:20241125T090000
DTEND;TZID=Europe/Paris:20241126T180000
DTSTAMP:20260423T201453
CREATED:20251105T142425Z
LAST-MODIFIED:20251105T160712Z
UID:6239-1732525200-1732644000@ifosworld.org
SUMMARY:4th International Conference on Otorhinolaryngology
DESCRIPTION:Event venue: Bangkok\nCountry: Thailand\nDate: 2024 November 25 2024 November 26\nContact: otorhinolaryngology@scientexconferences.com\nWebsite: https://www.otorhinolaryngology.scientexconference.com/submitabstract\nThe theme of the conference is ” Innovation in ENT Medical Care: Navigating the Future” ICOTO 2024 mainly focuses on developments\, advancements\, treatments\, awareness\, symptoms\, and risk factors in ENT. Join us for ICOTO 2024\, where international investigators\, clinicians\, and care providers gather to share the latest study results\, theories\, and discoveries that will help bring the world closer to breakthroughs in Otorhinolaryngology.
URL:https://ifosworld.org/event/4th-international-conference-on-otorhinolaryngology/
LOCATION:Bangkok\, Bangkok\, Thailand
END:VEVENT
END:VCALENDAR