BEGIN:VCALENDAR
VERSION:2.0
PRODID:-//IFOS | International Federation of ORL Societies - ECPv6.15.20//NONSGML v1.0//EN
CALSCALE:GREGORIAN
METHOD:PUBLISH
X-ORIGINAL-URL:https://ifosworld.org
X-WR-CALDESC:Events for IFOS | International Federation of ORL Societies
REFRESH-INTERVAL;VALUE=DURATION:PT1H
X-Robots-Tag:noindex
X-PUBLISHED-TTL:PT1H
BEGIN:VTIMEZONE
TZID:Europe/Paris
BEGIN:DAYLIGHT
TZOFFSETFROM:+0100
TZOFFSETTO:+0200
TZNAME:CEST
DTSTART:20230326T010000
END:DAYLIGHT
BEGIN:STANDARD
TZOFFSETFROM:+0200
TZOFFSETTO:+0100
TZNAME:CET
DTSTART:20231029T010000
END:STANDARD
BEGIN:DAYLIGHT
TZOFFSETFROM:+0100
TZOFFSETTO:+0200
TZNAME:CEST
DTSTART:20240331T010000
END:DAYLIGHT
BEGIN:STANDARD
TZOFFSETFROM:+0200
TZOFFSETTO:+0100
TZNAME:CET
DTSTART:20241027T010000
END:STANDARD
BEGIN:DAYLIGHT
TZOFFSETFROM:+0100
TZOFFSETTO:+0200
TZNAME:CEST
DTSTART:20250330T010000
END:DAYLIGHT
BEGIN:STANDARD
TZOFFSETFROM:+0200
TZOFFSETTO:+0100
TZNAME:CET
DTSTART:20251026T010000
END:STANDARD
END:VTIMEZONE
BEGIN:VEVENT
DTSTART;TZID=Europe/Paris:20240620T090000
DTEND;TZID=Europe/Paris:20240621T180000
DTSTAMP:20260424T045600
CREATED:20251105T142425Z
LAST-MODIFIED:20251105T160539Z
UID:6231-1718874000-1718992800@ifosworld.org
SUMMARY:4th Copenhagen International Head & Neck Ultrasound Course
DESCRIPTION:Event venue: The University of Copenhagen\, Faculty of Health and Medical Sciences\nCountry: DENMARK\nDate: 2024 June 20 – 2024 June 21 \nContact:\nultrasound.rigshospitalet@regionh.dk \nWebsite: https://www.neckultrasound.com/ \nThis course aims to introduce head and neck ultrasound and ultrasound-guided interventions to ENT surgeons.
URL:https://ifosworld.org/event/4th-copenhagen-international-head-neck-ultrasound-course/
LOCATION:The University of Copenhagen\, Faculty of Health and Medical Sciences\, DENMARK
END:VEVENT
END:VCALENDAR