BEGIN:VCALENDAR
VERSION:2.0
PRODID:-//IFOS | International Federation of ORL Societies - ECPv6.15.20//NONSGML v1.0//EN
CALSCALE:GREGORIAN
METHOD:PUBLISH
X-WR-CALNAME:IFOS | International Federation of ORL Societies
X-ORIGINAL-URL:https://ifosworld.org
X-WR-CALDESC:Events for IFOS | International Federation of ORL Societies
REFRESH-INTERVAL;VALUE=DURATION:PT1H
X-Robots-Tag:noindex
X-PUBLISHED-TTL:PT1H
BEGIN:VTIMEZONE
TZID:Europe/Paris
BEGIN:DAYLIGHT
TZOFFSETFROM:+0100
TZOFFSETTO:+0200
TZNAME:CEST
DTSTART:20230326T010000
END:DAYLIGHT
BEGIN:STANDARD
TZOFFSETFROM:+0200
TZOFFSETTO:+0100
TZNAME:CET
DTSTART:20231029T010000
END:STANDARD
BEGIN:DAYLIGHT
TZOFFSETFROM:+0100
TZOFFSETTO:+0200
TZNAME:CEST
DTSTART:20240331T010000
END:DAYLIGHT
BEGIN:STANDARD
TZOFFSETFROM:+0200
TZOFFSETTO:+0100
TZNAME:CET
DTSTART:20241027T010000
END:STANDARD
BEGIN:DAYLIGHT
TZOFFSETFROM:+0100
TZOFFSETTO:+0200
TZNAME:CEST
DTSTART:20250330T010000
END:DAYLIGHT
BEGIN:STANDARD
TZOFFSETFROM:+0200
TZOFFSETTO:+0100
TZNAME:CET
DTSTART:20251026T010000
END:STANDARD
END:VTIMEZONE
BEGIN:VEVENT
DTSTART;TZID=Europe/Paris:20240606T090000
DTEND;TZID=Europe/Paris:20240608T180000
DTSTAMP:20260424T045159
CREATED:20251105T142425Z
LAST-MODIFIED:20251105T160442Z
UID:6241-1717664400-1717869600@ifosworld.org
SUMMARY:HEAL 2024
DESCRIPTION:Event venue: Villa Erba Conference Center\, Lake Como\nCountry: Italy\nDate: 2024 June 06 2024 June 08\nContact: meet@meetandwork.com\nWebsite: http://www.heal2024.org\nThe next international HEAL 2024 conference (live) will be held from 6 to 8 June 2024 at our historic venue\, the gorgeous Villa Erba Conference Center\, on Lake Como in Cernobbio. This peaceful\, elegant\, cozy and little frequented town with all its charm will once again host our meeting. HEAL meetings\, a.k.a. the Como Conferences\, have closely monitored – and contributed to – the progress of modern Audiology and Hearing Science\, also influencing the development of clinical studies and practical protocols. HEAL meetings bring together experts from across disciplines and offer delegates a unique opportunity to discuss their latest research in a truly international forum. The Scientific Program is usually composed of several parallel sessions and enriched by Satellite Events dedicated to a great variety of topical issues as well as Special Sessions and Mini-Symposia proposed and coordinated by many Organizations and Institutions active in the wide area of hearing research and hearing care. As an example\, the last HEAL 2022 Scientific Program included two mini-symposia\, four special sessions and various lectures and approximately 330 Communications with Delegates representing about 45 Countries from around the world.
URL:https://ifosworld.org/event/heal-2024/
LOCATION:Villa Erba Conference Center\, Lake Como
END:VEVENT
BEGIN:VEVENT
DTSTART;TZID=Europe/Paris:20240606T090000
DTEND;TZID=Europe/Paris:20240608T180000
DTSTAMP:20260424T045159
CREATED:20251105T142425Z
LAST-MODIFIED:20251105T160453Z
UID:6230-1717664400-1717869600@ifosworld.org
SUMMARY:13. Balkan Congress of Otorhinolaryngology - head and neck surgery
DESCRIPTION:Event venue: Istanbul\nCountry: Turkey\nDate: 2024 June 06 2024 June 08\nContact: info@orl2024.org\nWebsite: http://balkanorl2024.org
URL:https://ifosworld.org/event/13-balkan-congress-of-otorhinolaryngology-head-and-neck-surgery/
LOCATION:Istanbul\, Istanbul\, Turkey
END:VEVENT
END:VCALENDAR