BEGIN:VCALENDAR
VERSION:2.0
PRODID:-//IFOS | International Federation of ORL Societies - ECPv6.15.20//NONSGML v1.0//EN
CALSCALE:GREGORIAN
METHOD:PUBLISH
X-ORIGINAL-URL:https://ifosworld.org
X-WR-CALDESC:Events for IFOS | International Federation of ORL Societies
REFRESH-INTERVAL;VALUE=DURATION:PT1H
X-Robots-Tag:noindex
X-PUBLISHED-TTL:PT1H
BEGIN:VTIMEZONE
TZID:Europe/Paris
BEGIN:DAYLIGHT
TZOFFSETFROM:+0100
TZOFFSETTO:+0200
TZNAME:CEST
DTSTART:20230326T010000
END:DAYLIGHT
BEGIN:STANDARD
TZOFFSETFROM:+0200
TZOFFSETTO:+0100
TZNAME:CET
DTSTART:20231029T010000
END:STANDARD
BEGIN:DAYLIGHT
TZOFFSETFROM:+0100
TZOFFSETTO:+0200
TZNAME:CEST
DTSTART:20240331T010000
END:DAYLIGHT
BEGIN:STANDARD
TZOFFSETFROM:+0200
TZOFFSETTO:+0100
TZNAME:CET
DTSTART:20241027T010000
END:STANDARD
BEGIN:DAYLIGHT
TZOFFSETFROM:+0100
TZOFFSETTO:+0200
TZNAME:CEST
DTSTART:20250330T010000
END:DAYLIGHT
BEGIN:STANDARD
TZOFFSETFROM:+0200
TZOFFSETTO:+0100
TZNAME:CET
DTSTART:20251026T010000
END:STANDARD
END:VTIMEZONE
BEGIN:VEVENT
DTSTART;TZID=Europe/Paris:20240508T090000
DTEND;TZID=Europe/Paris:20240511T180000
DTSTAMP:20260424T061059
CREATED:20251105T142425Z
LAST-MODIFIED:20251105T160414Z
UID:6243-1715158800-1715450400@ifosworld.org
SUMMARY:95th Annual meeting of the German Society of Oto-Rhino-Laryngology\, Head and Neck Surgery
DESCRIPTION:Event venue: Messe Essen | Congress Center Ost\, Essen\nCountry: Germany\nDate: 2024 May 08 2024 May 11\nContact: dghno-kongress@conventus.de\nWebsite: https://kongress-hno.de/en/\n“Crossing Borders” – international\, interdisciplinary and interactive
URL:https://ifosworld.org/event/95th-annual-meeting-of-the-german-society-of-oto-rhino-laryngology-head-and-neck-surgery/
LOCATION:Messe Essen | Congress Center Ost\, Essen
END:VEVENT
END:VCALENDAR