BEGIN:VCALENDAR
VERSION:2.0
PRODID:-//IFOS | International Federation of ORL Societies - ECPv6.15.20//NONSGML v1.0//EN
CALSCALE:GREGORIAN
METHOD:PUBLISH
X-WR-CALNAME:IFOS | International Federation of ORL Societies
X-ORIGINAL-URL:https://ifosworld.org
X-WR-CALDESC:Events for IFOS | International Federation of ORL Societies
REFRESH-INTERVAL;VALUE=DURATION:PT1H
X-Robots-Tag:noindex
X-PUBLISHED-TTL:PT1H
BEGIN:VTIMEZONE
TZID:Europe/Paris
BEGIN:DAYLIGHT
TZOFFSETFROM:+0100
TZOFFSETTO:+0200
TZNAME:CEST
DTSTART:20220327T010000
END:DAYLIGHT
BEGIN:STANDARD
TZOFFSETFROM:+0200
TZOFFSETTO:+0100
TZNAME:CET
DTSTART:20221030T010000
END:STANDARD
BEGIN:DAYLIGHT
TZOFFSETFROM:+0100
TZOFFSETTO:+0200
TZNAME:CEST
DTSTART:20230326T010000
END:DAYLIGHT
BEGIN:STANDARD
TZOFFSETFROM:+0200
TZOFFSETTO:+0100
TZNAME:CET
DTSTART:20231029T010000
END:STANDARD
BEGIN:DAYLIGHT
TZOFFSETFROM:+0100
TZOFFSETTO:+0200
TZNAME:CEST
DTSTART:20240331T010000
END:DAYLIGHT
BEGIN:STANDARD
TZOFFSETFROM:+0200
TZOFFSETTO:+0100
TZNAME:CET
DTSTART:20241027T010000
END:STANDARD
END:VTIMEZONE
BEGIN:VEVENT
DTSTART;TZID=Europe/Paris:20230914T090000
DTEND;TZID=Europe/Paris:20230916T180000
DTSTAMP:20260424T170650
CREATED:20251105T142432Z
LAST-MODIFIED:20251105T155829Z
UID:6252-1694682000-1694887200@ifosworld.org
SUMMARY:7th World Congress of Cochlear Implantation In Emerging Nations
DESCRIPTION:Event venue: Istanbul Congress Center\, Istanbul\nCountry: Turkey\nDate: 2023 September 14 2023 September 16\nContact: cistanbul@motto.tc\nWebsite: http://www.cistanbul2023.com\nDear Colleagues\, As Hacettepe Implant team\, we are pleased to announce that we are organizing the 7th World Congress of Cochlear Implantation in Emerging Countries in Istanbul\, Turkey between 14-16 September 2023. This decision was finalized during the 6th World Congress of Cochlear Implantation which was held in India (as an online meeting) between 12-14 November 2021. On the last day\, I was given the task of organizing the next meeting which we plan to perform in 2023. This meeting series was started in 2016 by Professor Muaz Tarabichi who set up the organization Global Cochlear Implant Access Network. The aim of these meetings is to find solutions to challenges in the field of implantation in emerging nations. The meeting was used to be held every year until 2019 but because of Covid19 Pandemic\, it was not possible to perform this face-to-face in India which was done as an online meeting in 2021. Now with the gradual control of the Covid 19 pandemic\, we plan to perform the meeting face-to-face between 14-16 September 2023 in Istanbul\, Turkey. The reason we prefer to make the meeting in Istanbul is that there are direct flights from many countries all over the world enabling many people to travel without connecting flights. In addition\, being the capital of three empires in the past\, Istanbul offers a rich history\, as well as being a picturesque city. It is also the meeting point of east and west where the experience of the developed world will be shared with emerging nations. We have set the congress date as September because this month in Turkey is quite warm and offers very good opportunities for outside activities while enjoying the beautiful city. Our aim is to make the meeting face-to-face. This is because we believe social interaction is very important between participants. We plan to make the meeting in 3 halls. We are developing guidelines for cochlear implantation and these will be presented during the meeting. We will also have interesting case
URL:https://ifosworld.org/event/7th-world-congress-of-cochlear-implantation-in-emerging-nations/
LOCATION:Istanbul Congress Center\, Istanbul\, Turkey
END:VEVENT
BEGIN:VEVENT
DTSTART;TZID=Europe/Paris:20230915T090000
DTEND;TZID=Europe/Paris:20230916T180000
DTSTAMP:20260424T170650
CREATED:20251105T142432Z
LAST-MODIFIED:20251105T155838Z
UID:6251-1694768400-1694887200@ifosworld.org
SUMMARY:7th International Conference on Hyperacusis and Misophonia
DESCRIPTION:Event venue: Warsaw\nCountry: Poland\nDate: 2023 September 15 2023 September 16\nContact: contact@ichm7.pl\nWebsite: http://www.ichm7.com\nThe event for oto-rhino-laryngologists\, audiologists\, and allied health specialists and mental health practitioners.
URL:https://ifosworld.org/event/7th-international-conference-on-hyperacusis-and-misophonia/
LOCATION:Warsaw\, Poland
END:VEVENT
END:VCALENDAR