BEGIN:VCALENDAR
VERSION:2.0
PRODID:-//IFOS | International Federation of ORL Societies - ECPv6.15.20//NONSGML v1.0//EN
CALSCALE:GREGORIAN
METHOD:PUBLISH
X-WR-CALNAME:IFOS | International Federation of ORL Societies
X-ORIGINAL-URL:https://ifosworld.org
X-WR-CALDESC:Events for IFOS | International Federation of ORL Societies
REFRESH-INTERVAL;VALUE=DURATION:PT1H
X-Robots-Tag:noindex
X-PUBLISHED-TTL:PT1H
BEGIN:VTIMEZONE
TZID:Europe/Paris
BEGIN:DAYLIGHT
TZOFFSETFROM:+0100
TZOFFSETTO:+0200
TZNAME:CEST
DTSTART:20220327T010000
END:DAYLIGHT
BEGIN:STANDARD
TZOFFSETFROM:+0200
TZOFFSETTO:+0100
TZNAME:CET
DTSTART:20221030T010000
END:STANDARD
BEGIN:DAYLIGHT
TZOFFSETFROM:+0100
TZOFFSETTO:+0200
TZNAME:CEST
DTSTART:20230326T010000
END:DAYLIGHT
BEGIN:STANDARD
TZOFFSETFROM:+0200
TZOFFSETTO:+0100
TZNAME:CET
DTSTART:20231029T010000
END:STANDARD
BEGIN:DAYLIGHT
TZOFFSETFROM:+0100
TZOFFSETTO:+0200
TZNAME:CEST
DTSTART:20240331T010000
END:DAYLIGHT
BEGIN:STANDARD
TZOFFSETFROM:+0200
TZOFFSETTO:+0100
TZNAME:CET
DTSTART:20241027T010000
END:STANDARD
END:VTIMEZONE
BEGIN:VEVENT
DTSTART;TZID=Europe/Paris:20230831T090000
DTEND;TZID=Europe/Paris:20230901T180000
DTSTAMP:20260424T171557
CREATED:20251105T142432Z
LAST-MODIFIED:20251105T155805Z
UID:6255-1693472400-1693591200@ifosworld.org
SUMMARY:Endoscopic Paranasal Sinus & Skull Base Hands on Course
DESCRIPTION:Event venue: SITEM Insel\, Bern\nCountry: Switzerland\nDate: 2023 August 31 2023 September 01\nContact: info@pssb-swiss-meeting.ch\nWebsite: http://www.pssb-swiss-meeting.ch\nIt is our pleasure to announce the Endoscopic Course for Paranasal Sinus and Skull Base Surgery 2023 under the direction of the Swiss Rhinology board in collaboration with the Department of ENT\, Head and Neck Surgery Inselspital and the Institute of Anatomy of the University of Bern. The course will strongly emphasize anatomical whole-head dissection. Individual dissection sessions will be framed by lectures and live anatomical demonstration. This will cover the theoretical background\, the step-by- step guide through the procedures\, and open discussion with the faculty. Feedback by former course participants made us allocate even more time to hands-on.
URL:https://ifosworld.org/event/endoscopic-paranasal-sinus-skull-base-hands-on-course/
LOCATION:SITEM Insel\, Bern\, Switzerland
END:VEVENT
END:VCALENDAR