BEGIN:VCALENDAR
VERSION:2.0
PRODID:-//IFOS | International Federation of ORL Societies - ECPv6.15.20//NONSGML v1.0//EN
CALSCALE:GREGORIAN
METHOD:PUBLISH
X-ORIGINAL-URL:https://ifosworld.org
X-WR-CALDESC:Events for IFOS | International Federation of ORL Societies
REFRESH-INTERVAL;VALUE=DURATION:PT1H
X-Robots-Tag:noindex
X-PUBLISHED-TTL:PT1H
BEGIN:VTIMEZONE
TZID:Europe/Paris
BEGIN:DAYLIGHT
TZOFFSETFROM:+0100
TZOFFSETTO:+0200
TZNAME:CEST
DTSTART:20220327T010000
END:DAYLIGHT
BEGIN:STANDARD
TZOFFSETFROM:+0200
TZOFFSETTO:+0100
TZNAME:CET
DTSTART:20221030T010000
END:STANDARD
BEGIN:DAYLIGHT
TZOFFSETFROM:+0100
TZOFFSETTO:+0200
TZNAME:CEST
DTSTART:20230326T010000
END:DAYLIGHT
BEGIN:STANDARD
TZOFFSETFROM:+0200
TZOFFSETTO:+0100
TZNAME:CET
DTSTART:20231029T010000
END:STANDARD
BEGIN:DAYLIGHT
TZOFFSETFROM:+0100
TZOFFSETTO:+0200
TZNAME:CEST
DTSTART:20240331T010000
END:DAYLIGHT
BEGIN:STANDARD
TZOFFSETFROM:+0200
TZOFFSETTO:+0100
TZNAME:CET
DTSTART:20241027T010000
END:STANDARD
END:VTIMEZONE
BEGIN:VEVENT
DTSTART;TZID=Europe/Paris:20230615T090000
DTEND;TZID=Europe/Paris:20230617T180000
DTSTAMP:20260424T214632
CREATED:20251105T142432Z
LAST-MODIFIED:20251105T155750Z
UID:6257-1686819600-1687024800@ifosworld.org
SUMMARY:World Congress on Thyroid Cancer (WCTC)
DESCRIPTION:Event venue: London\nCountry: UK\nDate: 2023 June 15 2023 June 17\nContact: pam@bayleygroup.com\nWebsite: http://www.thyroidworldcongress.com\nThis in-person World Congress\, after a hiatus of nearly three years\, is expected to be a landmark event in the specialty of Thyroid Cancer. It will be a three day symposium jointly organized with our British colleagues\, covering all aspects of the specialty\, and drawing leading experts from all parts of the world. We anticipate that it will attract several hundred attendees from every corner of the world. This is a global gathering of all specialists involved in the field of Thyroid Cancer. It will be of interest to surgeons\, endocrinologists\, nuclear medicine physicians\, medical oncologists\, pathologists\, radiologists and radiation oncologists\, basic science researchers\, epidemiologists\, and allied specialists. This unique Congress will include keynote addresses\, panel discussions and symposia\, point/counterpoint debates\, video sessions\, instructional courses\, submitted papers and videos\, as well as posters.
URL:https://ifosworld.org/event/world-congress-on-thyroid-cancer-wctc/
LOCATION:London\, London\, UK
END:VEVENT
END:VCALENDAR