BEGIN:VCALENDAR
VERSION:2.0
PRODID:-//IFOS | International Federation of ORL Societies - ECPv6.15.20//NONSGML v1.0//EN
CALSCALE:GREGORIAN
METHOD:PUBLISH
X-ORIGINAL-URL:https://ifosworld.org
X-WR-CALDESC:Events for IFOS | International Federation of ORL Societies
REFRESH-INTERVAL;VALUE=DURATION:PT1H
X-Robots-Tag:noindex
X-PUBLISHED-TTL:PT1H
BEGIN:VTIMEZONE
TZID:Europe/Paris
BEGIN:DAYLIGHT
TZOFFSETFROM:+0100
TZOFFSETTO:+0200
TZNAME:CEST
DTSTART:20220327T010000
END:DAYLIGHT
BEGIN:STANDARD
TZOFFSETFROM:+0200
TZOFFSETTO:+0100
TZNAME:CET
DTSTART:20221030T010000
END:STANDARD
BEGIN:DAYLIGHT
TZOFFSETFROM:+0100
TZOFFSETTO:+0200
TZNAME:CEST
DTSTART:20230326T010000
END:DAYLIGHT
BEGIN:STANDARD
TZOFFSETFROM:+0200
TZOFFSETTO:+0100
TZNAME:CET
DTSTART:20231029T010000
END:STANDARD
BEGIN:DAYLIGHT
TZOFFSETFROM:+0100
TZOFFSETTO:+0200
TZNAME:CEST
DTSTART:20240331T010000
END:DAYLIGHT
BEGIN:STANDARD
TZOFFSETFROM:+0200
TZOFFSETTO:+0100
TZNAME:CET
DTSTART:20241027T010000
END:STANDARD
END:VTIMEZONE
BEGIN:VEVENT
DTSTART;TZID=Europe/Paris:20230514T090000
DTEND;TZID=Europe/Paris:20230517T180000
DTSTAMP:20260425T145000
CREATED:20251105T142432Z
LAST-MODIFIED:20251105T155335Z
UID:6263-1684054800-1684346400@ifosworld.org
SUMMARY:14th AFIDOC MEETING FRANCO-ISRAELI OTOLARYNGOLOGY HEAD & NECK SURGERY CONGRESS
DESCRIPTION:Event venue: JERUSALEM\nCountry: Israel\nDate: 2023 May 14 2023 May 17\nContact: secretariat@isda-academy.com\nWebsite: https://pwm-events.com/afidoc-2023/\nou are more than welcome at the 14th AFIDOC meeting which will be held in the wonderful city of Jerusalem. The AFIDOC meeting will be associated with The Franco-Israeli Sleep Meeting. The scientific program will include many topics in the field of our specialty presented by prestigious French and Israeli speakers. Save the date and come with us to Jerusalem.
URL:https://ifosworld.org/event/14th-afidoc-meeting-franco-israeli-otolaryngology-head-neck-surgery-congress/
LOCATION:JERUSALEM\, JERUSALEM\, Israel
END:VEVENT
END:VCALENDAR