BEGIN:VCALENDAR
VERSION:2.0
PRODID:-//IFOS | International Federation of ORL Societies - ECPv6.15.20//NONSGML v1.0//EN
CALSCALE:GREGORIAN
METHOD:PUBLISH
X-ORIGINAL-URL:https://ifosworld.org
X-WR-CALDESC:Events for IFOS | International Federation of ORL Societies
REFRESH-INTERVAL;VALUE=DURATION:PT1H
X-Robots-Tag:noindex
X-PUBLISHED-TTL:PT1H
BEGIN:VTIMEZONE
TZID:Europe/Paris
BEGIN:DAYLIGHT
TZOFFSETFROM:+0100
TZOFFSETTO:+0200
TZNAME:CEST
DTSTART:20220327T010000
END:DAYLIGHT
BEGIN:STANDARD
TZOFFSETFROM:+0200
TZOFFSETTO:+0100
TZNAME:CET
DTSTART:20221030T010000
END:STANDARD
BEGIN:DAYLIGHT
TZOFFSETFROM:+0100
TZOFFSETTO:+0200
TZNAME:CEST
DTSTART:20230326T010000
END:DAYLIGHT
BEGIN:STANDARD
TZOFFSETFROM:+0200
TZOFFSETTO:+0100
TZNAME:CET
DTSTART:20231029T010000
END:STANDARD
BEGIN:DAYLIGHT
TZOFFSETFROM:+0100
TZOFFSETTO:+0200
TZNAME:CEST
DTSTART:20240331T010000
END:DAYLIGHT
BEGIN:STANDARD
TZOFFSETFROM:+0200
TZOFFSETTO:+0100
TZNAME:CET
DTSTART:20241027T010000
END:STANDARD
END:VTIMEZONE
BEGIN:VEVENT
DTSTART;TZID=Europe/Paris:20230308T090000
DTEND;TZID=Europe/Paris:20230312T180000
DTSTAMP:20260425T060514
CREATED:20251105T142437Z
LAST-MODIFIED:20251105T155241Z
UID:6266-1678266000-1678644000@ifosworld.org
SUMMARY:Asia Oceania ORL-HNS Congress hosted by the Australian Society of Otolaryngology Head and Neck Surgery
DESCRIPTION:Event venue: Brisbane\, Queensland\nCountry: Australia\nDate: 2023 March 08 2023 March 12\nContact: support@orlhns23.com\nWebsite: https://orlhns23.com\nThis Asia Oceania Otorhinolaryngological Head and Neck Surgery Congress (AO ORL HNS) is held every four years within the Asia Oceania Region. This will be the 15th Congress of the Asia Oceania Association\, with the most recent meeting held in Hyderabad in January 2019. The 15th Asia Oceania ORL-HNS Congress 2023 theme is “Reaching Out Maximising regional cooperation and resources to advance patient care”. The meeting will be held in conjunction with the Society’s Annual Scientific Meeting\, therefore ASOHNS members will comprise predominantly of Australian delegates. Other delegates will largely come from the Asia Oceania Region. The congress expects to attract 1\,200 delegates We look forward to welcoming you to Brisbane and a chance to visit Australia.
URL:https://ifosworld.org/event/asia-oceania-orl-hns-congress-hosted-by-the-australian-society-of-otolaryngology-head-and-neck-surgery/
LOCATION:Brisbane\, Queensland\, Australia
END:VEVENT
END:VCALENDAR