BEGIN:VCALENDAR
VERSION:2.0
PRODID:-//IFOS | International Federation of ORL Societies - ECPv6.15.20//NONSGML v1.0//EN
CALSCALE:GREGORIAN
METHOD:PUBLISH
X-WR-CALNAME:IFOS | International Federation of ORL Societies
X-ORIGINAL-URL:https://ifosworld.org
X-WR-CALDESC:Events for IFOS | International Federation of ORL Societies
REFRESH-INTERVAL;VALUE=DURATION:PT1H
X-Robots-Tag:noindex
X-PUBLISHED-TTL:PT1H
BEGIN:VTIMEZONE
TZID:Europe/Paris
BEGIN:DAYLIGHT
TZOFFSETFROM:+0100
TZOFFSETTO:+0200
TZNAME:CEST
DTSTART:20210328T010000
END:DAYLIGHT
BEGIN:STANDARD
TZOFFSETFROM:+0200
TZOFFSETTO:+0100
TZNAME:CET
DTSTART:20211031T010000
END:STANDARD
BEGIN:DAYLIGHT
TZOFFSETFROM:+0100
TZOFFSETTO:+0200
TZNAME:CEST
DTSTART:20220327T010000
END:DAYLIGHT
BEGIN:STANDARD
TZOFFSETFROM:+0200
TZOFFSETTO:+0100
TZNAME:CET
DTSTART:20221030T010000
END:STANDARD
BEGIN:DAYLIGHT
TZOFFSETFROM:+0100
TZOFFSETTO:+0200
TZNAME:CEST
DTSTART:20230326T010000
END:DAYLIGHT
BEGIN:STANDARD
TZOFFSETFROM:+0200
TZOFFSETTO:+0100
TZNAME:CET
DTSTART:20231029T010000
END:STANDARD
END:VTIMEZONE
BEGIN:VEVENT
DTSTART;TZID=Europe/Paris:20221125T090000
DTEND;TZID=Europe/Paris:20221127T180000
DTSTAMP:20260425T135322
CREATED:20251105T142437Z
LAST-MODIFIED:20251105T155204Z
UID:6269-1669366800-1669572000@ifosworld.org
SUMMARY:8th Annual Conference of Indian Academy of OTORHINOLARYNGOLOGY HEAD AND NECK SURGERY
DESCRIPTION:Event venue: Chitanvis Centre 56\, Temple Road\, Civil Lines\, Nagpur\, 440001\nCountry: India\nDate: 2022 November 25 2022 November 27\nContact: iaohns@gmail.com\nWebsite: https://www.iaohns2022.com/\nAfter the monumental success of the Annual Conference of AOI 2020 and the exciting Presidential post of AOI coming to Nagpur\, both thanks to Dr. Nandu Kolwadkar\, the enthusiasm and excitement to achieve more was vibrant in the air. Nothing better could have happened than to be offered to host another academic event – Annual Conference of Indian Academy of Otolaryngolgist Head and Neck Surgeons 2022. Defying the sizzling temperature the team Vidarbha has buckled up again to rise to the occasion. On a personal note I salute the spirit at Vidarbhites and quietly say “Keep the pot boiling my triends”. We will strive to achieve what we are known for in the country .An excellent blend of academics with equal zeal to further the spirit of comradery within our chosen specialty. We are stitching an extravagant academic programme in the wonderful ambience and temperature of November at the same chitanavis Centre\, Venue suitable iust for such activity. Under the able leadership of Dr. Samir Choudhary and Advisors such as Dr. Nandu Kolwadkar\, l have no doubts that you are going to witness yet another spectacular conterence. So cometo ourzeromilecity\, an epicenter of tiger amidst orange orchards. Your sincerely\, Dr. Madan Kapre Organising Chairman
URL:https://ifosworld.org/event/8th-annual-conference-of-indian-academy-of-otorhinolaryngology-head-and-neck-surgery/
LOCATION:Chitanvis Centre 56\, Temple Road\, Civil Lines\, Nagpur\, 440001\, India
END:VEVENT
END:VCALENDAR