BEGIN:VCALENDAR
VERSION:2.0
PRODID:-//IFOS | International Federation of ORL Societies - ECPv6.15.20//NONSGML v1.0//EN
CALSCALE:GREGORIAN
METHOD:PUBLISH
X-WR-CALNAME:IFOS | International Federation of ORL Societies
X-ORIGINAL-URL:https://ifosworld.org
X-WR-CALDESC:Events for IFOS | International Federation of ORL Societies
REFRESH-INTERVAL;VALUE=DURATION:PT1H
X-Robots-Tag:noindex
X-PUBLISHED-TTL:PT1H
BEGIN:VTIMEZONE
TZID:Europe/Paris
BEGIN:DAYLIGHT
TZOFFSETFROM:+0100
TZOFFSETTO:+0200
TZNAME:CEST
DTSTART:20210328T010000
END:DAYLIGHT
BEGIN:STANDARD
TZOFFSETFROM:+0200
TZOFFSETTO:+0100
TZNAME:CET
DTSTART:20211031T010000
END:STANDARD
BEGIN:DAYLIGHT
TZOFFSETFROM:+0100
TZOFFSETTO:+0200
TZNAME:CEST
DTSTART:20220327T010000
END:DAYLIGHT
BEGIN:STANDARD
TZOFFSETFROM:+0200
TZOFFSETTO:+0100
TZNAME:CET
DTSTART:20221030T010000
END:STANDARD
BEGIN:DAYLIGHT
TZOFFSETFROM:+0100
TZOFFSETTO:+0200
TZNAME:CEST
DTSTART:20230326T010000
END:DAYLIGHT
BEGIN:STANDARD
TZOFFSETFROM:+0200
TZOFFSETTO:+0100
TZNAME:CET
DTSTART:20231029T010000
END:STANDARD
END:VTIMEZONE
BEGIN:VEVENT
DTSTART;TZID=Europe/Paris:20221111T090000
DTEND;TZID=Europe/Paris:20221111T180000
DTSTAMP:20260425T124147
CREATED:20251105T142437Z
LAST-MODIFIED:20251105T155145Z
UID:6271-1668157200-1668189600@ifosworld.org
SUMMARY:Curso teórico práctico: Actualización en Rinosinusología por los expertos. Curso de disección en cadáver
DESCRIPTION:Event venue: Bogotá\nCountry: Colombia\nDate: 2022 November 11 2022 November 11\nContact: asistente@acorl.org.co\nWebsite: https://www.acorl.org.co/visitante/eventos/detalle-evento/?evento=151
URL:https://ifosworld.org/event/curso-teorico-practico-actualizacion-en-rinosinusologia-por-los-expertos-curso-de-diseccion-en-cadaver/
LOCATION:Bogotá\, Bogotá\, Colombia
END:VEVENT
END:VCALENDAR