BEGIN:VCALENDAR
VERSION:2.0
PRODID:-//IFOS | International Federation of ORL Societies - ECPv6.15.20//NONSGML v1.0//EN
CALSCALE:GREGORIAN
METHOD:PUBLISH
X-ORIGINAL-URL:https://ifosworld.org
X-WR-CALDESC:Events for IFOS | International Federation of ORL Societies
REFRESH-INTERVAL;VALUE=DURATION:PT1H
X-Robots-Tag:noindex
X-PUBLISHED-TTL:PT1H
BEGIN:VTIMEZONE
TZID:Europe/Paris
BEGIN:DAYLIGHT
TZOFFSETFROM:+0100
TZOFFSETTO:+0200
TZNAME:CEST
DTSTART:20210328T010000
END:DAYLIGHT
BEGIN:STANDARD
TZOFFSETFROM:+0200
TZOFFSETTO:+0100
TZNAME:CET
DTSTART:20211031T010000
END:STANDARD
BEGIN:DAYLIGHT
TZOFFSETFROM:+0100
TZOFFSETTO:+0200
TZNAME:CEST
DTSTART:20220327T010000
END:DAYLIGHT
BEGIN:STANDARD
TZOFFSETFROM:+0200
TZOFFSETTO:+0100
TZNAME:CET
DTSTART:20221030T010000
END:STANDARD
BEGIN:DAYLIGHT
TZOFFSETFROM:+0100
TZOFFSETTO:+0200
TZNAME:CEST
DTSTART:20230326T010000
END:DAYLIGHT
BEGIN:STANDARD
TZOFFSETFROM:+0200
TZOFFSETTO:+0100
TZNAME:CET
DTSTART:20231029T010000
END:STANDARD
END:VTIMEZONE
BEGIN:VEVENT
DTSTART;TZID=Europe/Paris:20221013T090000
DTEND;TZID=Europe/Paris:20221015T180000
DTSTAMP:20260425T142636
CREATED:20251105T142437Z
LAST-MODIFIED:20251105T155047Z
UID:6275-1665651600-1665856800@ifosworld.org
SUMMARY:Otoalex & Egyptian CI
DESCRIPTION:Event venue: Golden Jewel Hotel\nCountry: Alexandria\, Egypt\nDate: 2022 October 13 2022 October 15\nContact: esraa.abdallah@eventorevent.com\nOtoalex 2022 & Egyptian CI Organized by Otoalex Society Which will be held on 13-15 October 2022 Golden Jewel Hotel\, Alexandria\, Egypt For more Details and Registration; Mrs. Esraa Abdallah esraa.abdallah@eventorevent.com +20 1100995901 Dr. Wessam George wessam.george@quartz-eg.com +201271159594
URL:https://ifosworld.org/event/otoalex-egyptian-ci/
LOCATION:Golden Jewel Hotel\, Golden Jewel Hotel\, Alexandria\, Egypt
END:VEVENT
END:VCALENDAR