BEGIN:VCALENDAR
VERSION:2.0
PRODID:-//IFOS | International Federation of ORL Societies - ECPv6.15.20//NONSGML v1.0//EN
CALSCALE:GREGORIAN
METHOD:PUBLISH
X-WR-CALNAME:IFOS | International Federation of ORL Societies
X-ORIGINAL-URL:https://ifosworld.org
X-WR-CALDESC:Events for IFOS | International Federation of ORL Societies
REFRESH-INTERVAL;VALUE=DURATION:PT1H
X-Robots-Tag:noindex
X-PUBLISHED-TTL:PT1H
BEGIN:VTIMEZONE
TZID:Europe/Paris
BEGIN:DAYLIGHT
TZOFFSETFROM:+0100
TZOFFSETTO:+0200
TZNAME:CEST
DTSTART:20210328T010000
END:DAYLIGHT
BEGIN:STANDARD
TZOFFSETFROM:+0200
TZOFFSETTO:+0100
TZNAME:CET
DTSTART:20211031T010000
END:STANDARD
BEGIN:DAYLIGHT
TZOFFSETFROM:+0100
TZOFFSETTO:+0200
TZNAME:CEST
DTSTART:20220327T010000
END:DAYLIGHT
BEGIN:STANDARD
TZOFFSETFROM:+0200
TZOFFSETTO:+0100
TZNAME:CET
DTSTART:20221030T010000
END:STANDARD
BEGIN:DAYLIGHT
TZOFFSETFROM:+0100
TZOFFSETTO:+0200
TZNAME:CEST
DTSTART:20230326T010000
END:DAYLIGHT
BEGIN:STANDARD
TZOFFSETFROM:+0200
TZOFFSETTO:+0100
TZNAME:CET
DTSTART:20231029T010000
END:STANDARD
END:VTIMEZONE
BEGIN:VEVENT
DTSTART;TZID=Europe/Paris:20220919T090000
DTEND;TZID=Europe/Paris:20220920T180000
DTSTAMP:20260425T175613
CREATED:20251105T142437Z
LAST-MODIFIED:20251105T154746Z
UID:6278-1663578000-1663696800@ifosworld.org
SUMMARY:2nd World Congress on Otology\, Rhinology\, Laryngology
DESCRIPTION:Event venue: Paris\nCountry: France\nDate: 2022 September 19 2022 September 20\nContact: otorhinolaryngology@crgmeetings.org\nWebsite: https://otorhinolaryngologyconference.com/\n2nd World Congress on Otology\, Rhinology\, and Laryngology (Otorhinolaryngology 2022) will be taking place on September 19-20\, 2022 in Paris\, France. The Otorhinolaryngology 2022 will gather prominent global experts in this field including basic scientists\, clinical specialists\, and researchers. There will be very productive clinical debates on various topics related to all fields in Otorhinolaryngology\, as well as a special focus on Basic Sciences\, including the most important research groups in the world.
URL:https://ifosworld.org/event/2nd-world-congress-on-otology-rhinology-laryngology/
LOCATION:Paris\, Paris\, France
END:VEVENT
BEGIN:VEVENT
DTSTART;TZID=Europe/Paris:20220919T090000
DTEND;TZID=Europe/Paris:20220921T180000
DTSTAMP:20260425T175613
CREATED:20251105T142437Z
LAST-MODIFIED:20251105T154758Z
UID:6277-1663578000-1663783200@ifosworld.org
SUMMARY:2nd Edition of World Health Care and Nursing Conference
DESCRIPTION:Event venue: Wyndham Rome Midas- Rome\, Italy\nCountry: Italy\nDate: 2022 September 19 2022 September 21\nContact: nursing@irisscigroup.com\nWebsite: https://irisscientificgroup.com/conferences/healthcare-nursing/\n2nd Edition of World Health Care and Nursing Conference Iris scientific group cordially invites all the Nursing professionals across the globe to join “2nd Edition of World Health Care and Nursing Conference (WHCN 2022 – Hybrid Edition)” both on-site and virtually on September 19-21\, 2022\, in Rome\, Italy\, and Virtually by Zoom The main aim of the conference is “Advances and Innovations in Health Care and Nursing”. WHCN 2022 serves as a podium for the interaction between global experts in the areas of Healthcare and Nursing around the world and aims in sharing unique research and translational studies on various advances and innovations on several topics such as Healthcare\, Nursing Informatics\, Mental Health Nursing\, Nursing Education\, Nursing Research\, Pediatric Nursing\, Oncology Nursing\, Family Nursing\, Public Health\, Cardiac Nursing\, Holistic Nursing\, and many more interesting topics. Major Sessions include Nursing Research and Education Healthcare Applications and Technologies Intensive and Critical Care Nursing Primary Health Care Mental and Behavioral Health Patient Care and Safety Women’s Health Oncology Nursing Emergency and Ambulatory Care Community Health and Preventive Medicine Occupational and Safety Health Health Informatics and Clinical Informatics Adolescent and Young Adults Health Maternal\, Infant and Child Health Advances in Healthcare and Nursing Evidence-Based Nursing Telehealth Precision Medicine and Genomics Health Care and Nursing Case Reports Health Management and Public Health Medical Innovations – AI Breakthroughs in Healthcare Visit Conference Website at: https://irisscientificgroup.com/conferences/healthcare-nursing/ Keywords: Nursing Conference\, WHCN 2022\, Nursing Conference 2022\, Nursing Conference Rome\, Italy\, Nursing Conferences\, World Nursing Conference\, Nursing congress\, Nursing Symposiums\, Nursing Workshops\, Nursing Events Dates to Remember First Round of Abstract Submission: April 15\, 2022 Early Bird Registration: April 15\, 2022 Standard Registration: September 19\, 2022 Venue: Wyndham Rome Midas- Rome\, Italy Email: nursing@irisscigroup.com Contact No: +1 214 731 7766
URL:https://ifosworld.org/event/2nd-edition-of-world-health-care-and-nursing-conference/
LOCATION:Wyndham Rome Midas- Rome\, Italy\, Italy
END:VEVENT
END:VCALENDAR