BEGIN:VCALENDAR
VERSION:2.0
PRODID:-//IFOS | International Federation of ORL Societies - ECPv6.15.20//NONSGML v1.0//EN
CALSCALE:GREGORIAN
METHOD:PUBLISH
X-WR-CALNAME:IFOS | International Federation of ORL Societies
X-ORIGINAL-URL:https://ifosworld.org
X-WR-CALDESC:Events for IFOS | International Federation of ORL Societies
REFRESH-INTERVAL;VALUE=DURATION:PT1H
X-Robots-Tag:noindex
X-PUBLISHED-TTL:PT1H
BEGIN:VTIMEZONE
TZID:Europe/Paris
BEGIN:DAYLIGHT
TZOFFSETFROM:+0100
TZOFFSETTO:+0200
TZNAME:CEST
DTSTART:20210328T010000
END:DAYLIGHT
BEGIN:STANDARD
TZOFFSETFROM:+0200
TZOFFSETTO:+0100
TZNAME:CET
DTSTART:20211031T010000
END:STANDARD
BEGIN:DAYLIGHT
TZOFFSETFROM:+0100
TZOFFSETTO:+0200
TZNAME:CEST
DTSTART:20220327T010000
END:DAYLIGHT
BEGIN:STANDARD
TZOFFSETFROM:+0200
TZOFFSETTO:+0100
TZNAME:CET
DTSTART:20221030T010000
END:STANDARD
BEGIN:DAYLIGHT
TZOFFSETFROM:+0100
TZOFFSETTO:+0200
TZNAME:CEST
DTSTART:20230326T010000
END:DAYLIGHT
BEGIN:STANDARD
TZOFFSETFROM:+0200
TZOFFSETTO:+0100
TZNAME:CET
DTSTART:20231029T010000
END:STANDARD
END:VTIMEZONE
BEGIN:VEVENT
DTSTART;TZID=Europe/Paris:20220905T090000
DTEND;TZID=Europe/Paris:20220906T180000
DTSTAMP:20260425T162029
CREATED:20251105T142437Z
LAST-MODIFIED:20251105T154726Z
UID:6253-1662368400-1662487200@ifosworld.org
SUMMARY:Central European Endoscopic Ear Surgery Course
DESCRIPTION:Event venue: Theoretical Institutes Building; Faculty of Medicine and Dentistry; Palacký University Olomouc; Olomouc; Czechia\nCountry: Czech Republic\nDate: 2022 September 05 2022 September 06\nContact: k.dostalova@solen.cz\nWebsite: https://czechearendoscopy.com/\nThis course aims to introduce endoscopic ear surgery techniques to ENT specialists and trainees. It will cover endoscopic ear surgery in its entirety. The course should provide necessary knowledge and expertise to allow participants to incorporate endoscopic ear surgery into their clinical practice.
URL:https://ifosworld.org/event/central-european-endoscopic-ear-surgery-course/
LOCATION:Theoretical Institutes Building; Faculty of Medicine and Dentistry; Palacký University Olomouc; Olomouc; Czechia\, Czech Republic
END:VEVENT
END:VCALENDAR