BEGIN:VCALENDAR
VERSION:2.0
PRODID:-//IFOS | International Federation of ORL Societies - ECPv6.15.20//NONSGML v1.0//EN
CALSCALE:GREGORIAN
METHOD:PUBLISH
X-WR-CALNAME:IFOS | International Federation of ORL Societies
X-ORIGINAL-URL:https://ifosworld.org
X-WR-CALDESC:Events for IFOS | International Federation of ORL Societies
REFRESH-INTERVAL;VALUE=DURATION:PT1H
X-Robots-Tag:noindex
X-PUBLISHED-TTL:PT1H
BEGIN:VTIMEZONE
TZID:Europe/Paris
BEGIN:DAYLIGHT
TZOFFSETFROM:+0100
TZOFFSETTO:+0200
TZNAME:CEST
DTSTART:20210328T010000
END:DAYLIGHT
BEGIN:STANDARD
TZOFFSETFROM:+0200
TZOFFSETTO:+0100
TZNAME:CET
DTSTART:20211031T010000
END:STANDARD
BEGIN:DAYLIGHT
TZOFFSETFROM:+0100
TZOFFSETTO:+0200
TZNAME:CEST
DTSTART:20220327T010000
END:DAYLIGHT
BEGIN:STANDARD
TZOFFSETFROM:+0200
TZOFFSETTO:+0100
TZNAME:CET
DTSTART:20221030T010000
END:STANDARD
BEGIN:DAYLIGHT
TZOFFSETFROM:+0100
TZOFFSETTO:+0200
TZNAME:CEST
DTSTART:20230326T010000
END:DAYLIGHT
BEGIN:STANDARD
TZOFFSETFROM:+0200
TZOFFSETTO:+0100
TZNAME:CET
DTSTART:20231029T010000
END:STANDARD
END:VTIMEZONE
BEGIN:VEVENT
DTSTART;TZID=Europe/Paris:20220623T090000
DTEND;TZID=Europe/Paris:20220624T180000
DTSTAMP:20260425T230551
CREATED:20251105T142437Z
LAST-MODIFIED:20251105T154707Z
UID:6281-1655974800-1656093600@ifosworld.org
SUMMARY:Copenhagen International Head & Neck Ultrasound Course
DESCRIPTION:Event venue: The University of Copenhagen\nCountry: Denmark\nDate: 2022 June 23 2022 June 24\nContact: ultrasound.rigshospitalet@regionh.dk\nWebsite: https://www.neckultrasound.com/\nCopenhagen International Head & Neck Ultrasound Course This course aims to introduce surgeon-performed head and neck ultrasound and ultrasound-guided interventions to specialists and registrars in Otolaryngology-Head and Neck Surgery. An international multispeciality faculty will teach thyroid\, parathyroid\, and neck ultrasound\, and the lectures will be combined with quizzes to improve interactivity and learning. About half of the time is planned for hands-on training on volunteer patients with a teacher-to-participant ratio of 1:3. Further\, the participants will also practice ultrasound-guided interventions (including fine-needle aspiration biopsies\, core needle biopsies\, and minimally invasive treatments) on special-made fantoms. The European Federation of Societies for Ultrasound in Medicine and Biology (EFSUMB) has endorsed the course\, and the curriculum of the theoretical part corresponds to EFSUMB Level 1. Please visit the website below for more information: www.neckultrasound.com
URL:https://ifosworld.org/event/copenhagen-international-head-neck-ultrasound-course/
LOCATION:The University of Copenhagen\, Denmark
END:VEVENT
END:VCALENDAR